BEGIN:VCALENDAR
VERSION:2.0
PRODID:-//wp-events-plugin.com//7.0.5//EN
BEGIN:VEVENT
UID:13@altoason.com
DTSTART;VALUE=DATE:20260725
DTEND;VALUE=DATE:20260727
DTSTAMP:20251216T195134Z
URL:https://altoason.com/events/santiago-y-santa-ana-en-ojebar/
SUMMARY:Santiago y Santa Ana en Ojebar
DESCRIPTION:
CATEGORIES:Fiesta Popular
LOCATION:RASINES\, Barrio La Iglesia\, 23\, Rasines\, Cantabria\, 39860\, M
 ancomunidad del Alto Asón\, España
X-APPLE-STRUCTURED-LOCATION;VALUE=URI;X-ADDRESS=Barrio La Iglesia\, 23\, Ra
 sines\, Cantabria\, 39860\, Mancomunidad del Alto Asón\, España;X-APPLE-
 RADIUS=100;X-TITLE=RASINES:geo:0,0
END:VEVENT
END:VCALENDAR