BEGIN:VCALENDAR
VERSION:2.0
PRODID:-//wp-events-plugin.com//7.0.5//EN
BEGIN:VEVENT
UID:10@altoason.com
DTSTART;VALUE=DATE:20260830
DTEND;VALUE=DATE:20260831
DTSTAMP:20251216T194736Z
URL:https://altoason.com/events/san-emeterio-y-san-celedonio-en-gibaja/
SUMMARY:San Emeterio y San Celedonio en Gibaja
DESCRIPTION:
CATEGORIES:Fiesta Popular
LOCATION:RAMALES DE LA VICTORIA\, Plaza Duques de la Victoria\, 1\, Ramales
  de la Victoria\, Cantabria\, 39800\, Mancomunidad del Alto Asón\, Españ
 a
X-APPLE-STRUCTURED-LOCATION;VALUE=URI;X-ADDRESS=Plaza Duques de la Victoria
 \, 1\, Ramales de la Victoria\, Cantabria\, 39800\, Mancomunidad del Alto 
 Asón\, España;X-APPLE-RADIUS=100;X-TITLE=RAMALES DE LA VICTORIA:geo:0,0
END:VEVENT
END:VCALENDAR