BEGIN:VCALENDAR
VERSION:2.0
PRODID:-//wp-events-plugin.com//7.0.5//EN
BEGIN:VEVENT
UID:9@altoason.com
DTSTART;VALUE=DATE:20260716
DTEND;VALUE=DATE:20260717
DTSTAMP:20251216T194642Z
URL:https://altoason.com/events/nuestra-senora-del-carmen-en-ramales/
SUMMARY:Nuestra Señora del Carmen en Ramales
DESCRIPTION:
CATEGORIES:Fiesta Popular
LOCATION:RAMALES DE LA VICTORIA\, Plaza Duques de la Victoria\, 1\, Ramales
  de la Victoria\, Cantabria\, 39800\, Mancomunidad del Alto Asón\, Españ
 a
X-APPLE-STRUCTURED-LOCATION;VALUE=URI;X-ADDRESS=Plaza Duques de la Victoria
 \, 1\, Ramales de la Victoria\, Cantabria\, 39800\, Mancomunidad del Alto 
 Asón\, España;X-APPLE-RADIUS=100;X-TITLE=RAMALES DE LA VICTORIA:geo:0,0
END:VEVENT
END:VCALENDAR