BEGIN:VCALENDAR
VERSION:2.0
PRODID:-//wp-events-plugin.com//7.0.5//EN
BEGIN:VEVENT
UID:16@altoason.com
DTSTART;VALUE=DATE:20260927
DTEND;VALUE=DATE:20260928
DTSTAMP:20251216T195506Z
URL:https://altoason.com/events/los-santos-martires-en-la-campa-de-los-mar
 tires/
SUMMARY:Los Santos Mártires en la campa de los Mártires
DESCRIPTION:
CATEGORIES:Fiesta Popular
LOCATION:RASINES\, Barrio La Iglesia\, 23\, Rasines\, Cantabria\, 39860\, M
 ancomunidad del Alto Asón\, España
X-APPLE-STRUCTURED-LOCATION;VALUE=URI;X-ADDRESS=Barrio La Iglesia\, 23\, Ra
 sines\, Cantabria\, 39860\, Mancomunidad del Alto Asón\, España;X-APPLE-
 RADIUS=100;X-TITLE=RASINES:geo:0,0
END:VEVENT
END:VCALENDAR